BEGIN:VCALENDAR
VERSION:2.0
PRODID:-//www.impactcowboychurch.org//NONSGML kigkonsult.se iCalcreator 2.3
 9.1//
CALSCALE:GREGORIAN
METHOD:PUBLISH
UID:3b1a9adb-de36-4f85-9e94-d9362dd69c23
X-WR-CALNAME:www.impactcowboychurch.org
X-WR-CALDESC:www.impactcowboychurch.org
X-WR-TIMEZONE:America/Los_Angeles
X-LIC-LOCATION:America/Los_Angeles
BEGIN:VEVENT
UID:99d443f2-2e80-4a33-b173-dbd0be54075b
DTSTAMP:20260420T210049Z
CLASS:PUBLIC
DTSTART;TZID=America/Los_Angeles:20260422T190000
DTEND;TZID=America/Los_Angeles:20260422T200000
SUMMARY:Youth Service
TRANSP:OPAQUE
BEGIN:VALARM
ACTION:DISPLAY
DESCRIPTION:Youth Service
TRIGGER:-PT15M
END:VALARM
END:VEVENT
END:VCALENDAR
